BEGIN:VCALENDAR
VERSION:2.0
PRODID:-//Sociedad Riojalteña de Caza y Pesca - ECPv6.15.16//NONSGML v1.0//EN
CALSCALE:GREGORIAN
METHOD:PUBLISH
X-WR-CALNAME:Sociedad Riojalteña de Caza y Pesca
X-ORIGINAL-URL:https://cazaypescaharo.com
X-WR-CALDESC:Eventos para Sociedad Riojalteña de Caza y Pesca
REFRESH-INTERVAL;VALUE=DURATION:PT1H
X-Robots-Tag:noindex
X-PUBLISHED-TTL:PT1H
BEGIN:VTIMEZONE
TZID:Europe/Madrid
BEGIN:DAYLIGHT
TZOFFSETFROM:+0100
TZOFFSETTO:+0200
TZNAME:CEST
DTSTART:20210328T010000
END:DAYLIGHT
BEGIN:STANDARD
TZOFFSETFROM:+0200
TZOFFSETTO:+0100
TZNAME:CET
DTSTART:20211031T010000
END:STANDARD
BEGIN:DAYLIGHT
TZOFFSETFROM:+0100
TZOFFSETTO:+0200
TZNAME:CEST
DTSTART:20220327T010000
END:DAYLIGHT
BEGIN:STANDARD
TZOFFSETFROM:+0200
TZOFFSETTO:+0100
TZNAME:CET
DTSTART:20221030T010000
END:STANDARD
BEGIN:DAYLIGHT
TZOFFSETFROM:+0100
TZOFFSETTO:+0200
TZNAME:CEST
DTSTART:20230326T010000
END:DAYLIGHT
BEGIN:STANDARD
TZOFFSETFROM:+0200
TZOFFSETTO:+0100
TZNAME:CET
DTSTART:20231029T010000
END:STANDARD
BEGIN:DAYLIGHT
TZOFFSETFROM:+0100
TZOFFSETTO:+0200
TZNAME:CEST
DTSTART:20240331T010000
END:DAYLIGHT
BEGIN:STANDARD
TZOFFSETFROM:+0200
TZOFFSETTO:+0100
TZNAME:CET
DTSTART:20241027T010000
END:STANDARD
BEGIN:DAYLIGHT
TZOFFSETFROM:+0100
TZOFFSETTO:+0200
TZNAME:CEST
DTSTART:20250330T010000
END:DAYLIGHT
BEGIN:STANDARD
TZOFFSETFROM:+0200
TZOFFSETTO:+0100
TZNAME:CET
DTSTART:20251026T010000
END:STANDARD
END:VTIMEZONE
BEGIN:VEVENT
DTSTART;TZID=Europe/Madrid:20240406T100000
DTEND;TZID=Europe/Madrid:20240406T140000
DTSTAMP:20260422T103507
CREATED:20240312T182509Z
LAST-MODIFIED:20240416T164854Z
UID:915-1712397600-1712412000@cazaypescaharo.com
SUMMARY:Curso para la obtención de la licencia de pesca
DESCRIPTION:La Sociedad Riojalteña de Caza y Pesca de Haro ha organizado un curso para la obtención de la licencia de pesca para mayores de 12 años. \nEste curso tendrá lugar el sábado 6 de abril en la sala multiusos del edificio «Mamel» de Haro\, en horario de 10:00 a 14:00 horas. \nLas inscripciones se harán en la oficina de la Sociedad Riojalteña\, c/ Tenerias 6 – Bj 10 B\, en Haro o en el teléfono 941 310831\, en horario de lunes a viernes de 16:00 a 20:00 h. \n 
URL:https://cazaypescaharo.com/evento/curso-para-la-obtencion-de-la-licencia-de-pesca/
CATEGORIES:Cursos,Pesca
ATTACH;FMTTYPE=image/jpeg:https://cazaypescaharo.com/wp-content/uploads/2024/03/CURSO-LICENCIA-DE-PESCA-1-e1713286028935.jpg
END:VEVENT
BEGIN:VEVENT
DTSTART;TZID=Europe/Madrid:20240403T090000
DTEND;TZID=Europe/Madrid:20240404T160000
DTSTAMP:20260422T103507
CREATED:20240312T104956Z
LAST-MODIFIED:20240312T112238Z
UID:593-1712134800-1712246400@cazaypescaharo.com
SUMMARY:Curso de pesca infantil (8 a 12 años).
DESCRIPTION:La Sociedad Riojalteña de Caza y Pesca de Haro\, sigue con sus iniciativas\, esta vez con una actividad destinada a niños/as de 8 a 12 años. \nSe trata de un curso de formación y aprendizaje en el arte de la pesca\, tanto teórico como práctico. \nSe celebrará los días 3 y 4 de abril en el coto intensivo de Anguciana. \nHorario de 9:00 a 14:00. \nSe pueden inscribir en la oficina de la Sociedad en horario de lunes a viernes de 16 a 20 h\, y en el teléfono 941 310831\, hasta completar cupo.
URL:https://cazaypescaharo.com/evento/curso-de-pesca-infantil-8-a-12-anos/
LOCATION:Coto intensivo Anguciana\, Anguciana\, La Rioja\, España
CATEGORIES:Cursos,Pesca
ATTACH;FMTTYPE=image/jpeg:https://cazaypescaharo.com/wp-content/uploads/2024/03/CARTEL-TALLERES-PESCA-e1710178352125.jpg
END:VEVENT
BEGIN:VEVENT
DTSTART;TZID=Europe/Madrid:20220701T180000
DTEND;TZID=Europe/Madrid:20220701T200000
DTSTAMP:20260422T103507
CREATED:20220620T090530Z
LAST-MODIFIED:20220728T151550Z
UID:46-1656698400-1656705600@cazaypescaharo.com
SUMMARY:Concurso de pesca infantil de truchas y carpas (Niños 12 a 16 años)
DESCRIPTION:XXIX Memorial de pesca infantil “José Labarga” \nPARA NIÑOS DE 12 A 16 AÑOS \n1 DE JULIO DE 2022 \nLUGAR: PARQUE FÉLIX RODRIGUEZ DE LA FUENTE\, 18\,00 H. \n  \n*Inscripciones en la oficina de la sociedad unos días antes en horario de 16:00 a 20:00 h
URL:https://cazaypescaharo.com/evento/concurso-de-pesca-infantil-de-truchas-y-carpas-ninos-12-a-16-anos/
LOCATION:Parque Félix Rodríguez de la Fuente\, Parque Félix Rodríguez de la Fuente\, Haro\, La Rioja\, 26200\, España
CATEGORIES:Concursos,Pesca
ATTACH;FMTTYPE=image/webp:https://cazaypescaharo.com/wp-content/uploads/2022/06/Concurso-de-pesca-infantil-de-truchas-y-carpas.webp
END:VEVENT
BEGIN:VEVENT
DTSTART;TZID=Europe/Madrid:20220630T180000
DTEND;TZID=Europe/Madrid:20220630T200000
DTSTAMP:20260422T103507
CREATED:20220620T085913Z
LAST-MODIFIED:20220728T151510Z
UID:42-1656612000-1656619200@cazaypescaharo.com
SUMMARY:Concurso de pesca infantil de truchas y carpas (Niños 8 a 11 años)
DESCRIPTION:XXIX Memorial de pesca infantil “José Labarga” \nPARA NIÑOS DE 8 A 11 AÑOS \n30 DE JUNIO DE 2022 \nLUGAR: PARQUE FÉLIX RODRIGUEZ DE LA FUENTE\, 18\,00 H. \n  \n*Inscripciones en la oficina de la sociedad unos días antes en horario de 16:00 a 20:00 h
URL:https://cazaypescaharo.com/evento/concurso-de-pesca-infantil-de-truchas-y-carpas/
LOCATION:Parque Félix Rodríguez de la Fuente\, Parque Félix Rodríguez de la Fuente\, Haro\, La Rioja\, 26200\, España
CATEGORIES:Concursos,Pesca
ATTACH;FMTTYPE=image/jpeg:https://cazaypescaharo.com/wp-content/uploads/2022/06/Concurso-de-pesca-infantil-de-truchas-y-carpas.jpg
END:VEVENT
BEGIN:VEVENT
DTSTART;TZID=Europe/Madrid:20220619T080000
DTEND;TZID=Europe/Madrid:20220619T130000
DTSTAMP:20260422T103507
CREATED:20220420T085218Z
LAST-MODIFIED:20220801T054053Z
UID:39-1655625600-1655643600@cazaypescaharo.com
SUMMARY:Recorrido de Caza
DESCRIPTION:RECORRIDO DE CAZA\n19 DE JUNIO DE 2022 \nLUGAR: VALLE DE SAN FELICES\, 8\,00 H \nINSCRIPCIONES EN LA OFICINA DE LA SOCIEDAD UNOS DÍAS ANTES EN HORARIO\nDE 16:00 A 20:00 H. PRESENTAR TARJETA FEDERATIVA
URL:https://cazaypescaharo.com/evento/recorrido-de-caza/
LOCATION:Valle de San Felices\, Ermita de San Felices\, Haro\, La Rioja\, 26200\, España
CATEGORIES:Caza,Concursos
ATTACH;FMTTYPE=image/jpeg:https://cazaypescaharo.com/wp-content/uploads/2022/04/Recorrido-de-caza.jpg
END:VEVENT
BEGIN:VEVENT
DTSTART;TZID=Europe/Madrid:20220411T090000
DTEND;TZID=Europe/Madrid:20220413T140000
DTSTAMP:20260422T103507
CREATED:20220620T070356Z
LAST-MODIFIED:20220801T050349Z
UID:22-1649667600-1649858400@cazaypescaharo.com
SUMMARY:Campamento de pesca (sin muerte) y naturaleza para niños
DESCRIPTION:NIÑOS DE 8 A 12 AÑOS (3º-6º PRIMARIA) \nDÍAS 11\, 12 Y 13 DE ABRIL \nHORARIO DE 9 A 14 H \nPRECIO DE LOS 3 DÍAS: 30 EUROS/ NIÑO-A \nINCLUYE: 1 MONITOR PARA CADA 4-5 NIÑOS/AS\nSEGURO DE PESCA PARA EL NIÑO/A\nALMUERZO \n*Los beneficios van destinados al cuidado y mejora del medioambiente y del entorno rural de nuestra comarca de Haro. \n  
URL:https://cazaypescaharo.com/evento/campamento-de-pesca-sin-muerte-y-naturaleza-para-ninos/
LOCATION:Parque Félix Rodríguez de la Fuente\, Parque Félix Rodríguez de la Fuente\, Haro\, La Rioja\, 26200\, España
CATEGORIES:Cursos,Pesca
ATTACH;FMTTYPE=image/jpeg:https://cazaypescaharo.com/wp-content/uploads/2022/06/pesca-sin-muerte-para-ninos.jpg
END:VEVENT
BEGIN:VEVENT
DTSTART;TZID=Europe/Madrid:20220306T080000
DTEND;TZID=Europe/Madrid:20220731T170000
DTSTAMP:20260422T103507
CREATED:20220727T082525Z
LAST-MODIFIED:20220727T082525Z
UID:67-1646553600-1659286800@cazaypescaharo.com
SUMMARY:Coto Intensivo de Anguciana
DESCRIPTION:Coto Intensivo de Anguciana.
URL:https://cazaypescaharo.com/evento/coto-intensivo-de-anguciana/
LOCATION:Coto intensivo Anguciana\, Anguciana\, La Rioja\, España
CATEGORIES:Permisos
END:VEVENT
END:VCALENDAR